Package: RNAdecay Version: 1.29.0 Command: /home/biocbuild/R/R/bin/R CMD build --keep-empty-dirs --no-resave-data RNAdecay StartedAt: 2025-10-03 02:39:48 -0000 (Fri, 03 Oct 2025) EndedAt: 2025-10-03 02:55:07 -0000 (Fri, 03 Oct 2025) EllapsedTime: 919.4 seconds RetCode: 1 Status: ERROR PackageFile: None PackageFileSize: NA