Package: RNAdecay Version: 1.29.0 Command: /Library/Frameworks/R.framework/Resources/bin/R CMD INSTALL RNAdecay StartedAt: 2025-07-11 15:04:30 -0400 (Fri, 11 Jul 2025) EndedAt: 2025-07-11 15:06:12 -0400 (Fri, 11 Jul 2025) EllapsedTime: 102.5 seconds RetCode: 0 Status: OK