Package: RNAdecay Version: 1.29.0 Command: /Library/Frameworks/R.framework/Resources/bin/R CMD check --install=check:RNAdecay.install-out.txt --library=/Library/Frameworks/R.framework/Resources/library --no-vignettes --timings RNAdecay_1.29.0.tar.gz StartedAt: 2025-07-11 21:06:19 -0400 (Fri, 11 Jul 2025) EndedAt: 2025-07-11 21:06:34 -0400 (Fri, 11 Jul 2025) EllapsedTime: 14.2 seconds RetCode: 0 Status: OK CheckDir: RNAdecay.Rcheck Warnings: 0