Package: RNAdecay Version: 1.29.0 Command: /Library/Frameworks/R.framework/Resources/bin/R CMD build --keep-empty-dirs --no-resave-data RNAdecay StartedAt: 2025-07-11 17:23:02 -0400 (Fri, 11 Jul 2025) EndedAt: 2025-07-11 17:25:56 -0400 (Fri, 11 Jul 2025) EllapsedTime: 174.0 seconds RetCode: 0 Status: OK PackageFile: RNAdecay_1.29.0.tar.gz PackageFileSize: 2.708 MiB