Package: RNAdecay Version: 1.29.0 Command: rm -rf RNAdecay.buildbin-libdir && mkdir RNAdecay.buildbin-libdir && /Users/biocbuild/BBS/utils/build-universal.sh RNAdecay_1.29.0.tar.gz /Library/Frameworks/R.framework/Resources/bin/R RNAdecay.buildbin-libdir StartedAt: 2025-07-11 22:33:08 -0400 (Fri, 11 Jul 2025) EndedAt: 2025-07-11 22:35:08 -0400 (Fri, 11 Jul 2025) EllapsedTime: 119.3 seconds RetCode: 0 Status: OK PackageFile: RNAdecay_1.29.0.tgz PackageFileSize: 5.138 MiB