Package: RNASeqPower Version: 1.49.0 Command: /home/biocbuild/R/R/bin/R CMD INSTALL RNASeqPower StartedAt: 2025-06-30 20:13:18 -0000 (Mon, 30 Jun 2025) EndedAt: 2025-06-30 20:13:34 -0000 (Mon, 30 Jun 2025) EllapsedTime: 16.2 seconds RetCode: 0 Status: OK