Package: RNASeqPower Version: 1.49.0 Command: /home/biocbuild/R/R/bin/R CMD build --keep-empty-dirs --no-resave-data RNASeqPower StartedAt: 2025-07-01 02:21:37 -0000 (Tue, 01 Jul 2025) EndedAt: 2025-07-01 02:21:44 -0000 (Tue, 01 Jul 2025) EllapsedTime: 7.0 seconds RetCode: 0 Status: OK PackageFile: RNASeqPower_1.49.0.tar.gz PackageFileSize: 181.1 KiB