Package: RNASeqPower Version: 1.49.0 Command: /home/biocbuild/bbs-3.22-bioc/R/bin/R CMD check --install=check:RNASeqPower.install-out.txt --library=/home/biocbuild/bbs-3.22-bioc/R/site-library --timings RNASeqPower_1.49.0.tar.gz StartedAt: 2025-07-16 01:50:18 -0400 (Wed, 16 Jul 2025) EndedAt: 2025-07-16 01:50:34 -0400 (Wed, 16 Jul 2025) EllapsedTime: 16.0 seconds RetCode: 0 Status: OK CheckDir: RNASeqPower.Rcheck Warnings: 0