Package: RNASeqPower Version: 1.49.0 Command: /Library/Frameworks/R.framework/Resources/bin/R CMD INSTALL RNASeqPower StartedAt: 2025-06-29 15:02:27 -0400 (Sun, 29 Jun 2025) EndedAt: 2025-06-29 15:02:31 -0400 (Sun, 29 Jun 2025) EllapsedTime: 4.2 seconds RetCode: 0 Status: OK