Package: RNASeqPower Version: 1.49.0 Command: /Library/Frameworks/R.framework/Resources/bin/R CMD build --keep-empty-dirs --no-resave-data RNASeqPower StartedAt: 2025-06-29 17:25:02 -0400 (Sun, 29 Jun 2025) EndedAt: 2025-06-29 17:25:05 -0400 (Sun, 29 Jun 2025) EllapsedTime: 3.0 seconds RetCode: 0 Status: OK PackageFile: RNASeqPower_1.49.0.tar.gz PackageFileSize: 190.7 KiB