Package: RNAAgeCalc Version: 1.21.0 Command: F:\biocbuild\bbs-3.22-bioc\R\bin\R.exe CMD check --no-multiarch --install=check:RNAAgeCalc.install-out.txt --library=F:\biocbuild\bbs-3.22-bioc\R\library --no-vignettes --timings RNAAgeCalc_1.21.0.tar.gz StartedAt: 2025-07-23 06:01:16 -0400 (Wed, 23 Jul 2025) EndedAt: 2025-07-23 06:08:07 -0400 (Wed, 23 Jul 2025) EllapsedTime: 411.2 seconds RetCode: 0 Status: OK CheckDir: RNAAgeCalc.Rcheck Warnings: 0