Package: RNAAgeCalc Version: 1.21.0 Command: chmod a+r RNAAgeCalc -R && F:\biocbuild\bbs-3.22-bioc\R\bin\R.exe CMD build --keep-empty-dirs --no-resave-data RNAAgeCalc StartedAt: 2025-07-22 21:41:44 -0400 (Tue, 22 Jul 2025) EndedAt: 2025-07-22 21:43:13 -0400 (Tue, 22 Jul 2025) EllapsedTime: 89.1 seconds RetCode: 0 Status: OK PackageFile: RNAAgeCalc_1.21.0.tar.gz PackageFileSize: 3.29 MiB