Package: RNAAgeCalc Version: 1.21.0 Command: rm -rf RNAAgeCalc.buildbin-libdir && mkdir RNAAgeCalc.buildbin-libdir && F:\biocbuild\bbs-3.22-bioc\R\bin\R.exe CMD INSTALL --build --library=RNAAgeCalc.buildbin-libdir RNAAgeCalc_1.21.0.tar.gz StartedAt: 2025-07-23 09:59:30 -0400 (Wed, 23 Jul 2025) EndedAt: 2025-07-23 10:00:32 -0400 (Wed, 23 Jul 2025) EllapsedTime: 62.1 seconds RetCode: 0 Status: OK PackageFile: RNAAgeCalc_1.21.0.zip PackageFileSize: 3.43 MiB