Package: RNAAgeCalc Version: 1.21.0 Command: /Library/Frameworks/R.framework/Resources/bin/R CMD check --install=check:RNAAgeCalc.install-out.txt --library=/Library/Frameworks/R.framework/Resources/library --no-vignettes --timings RNAAgeCalc_1.21.0.tar.gz StartedAt: 2025-07-01 23:11:33 -0400 (Tue, 01 Jul 2025) EndedAt: 2025-07-01 23:17:42 -0400 (Tue, 01 Jul 2025) EllapsedTime: 369.8 seconds RetCode: 0 Status: OK CheckDir: RNAAgeCalc.Rcheck Warnings: 0