Package: RNAAgeCalc Version: 1.21.0 Command: /Library/Frameworks/R.framework/Resources/bin/R CMD build --keep-empty-dirs --no-resave-data RNAAgeCalc StartedAt: 2025-07-01 18:19:05 -0400 (Tue, 01 Jul 2025) EndedAt: 2025-07-01 18:20:20 -0400 (Tue, 01 Jul 2025) EllapsedTime: 74.5 seconds RetCode: 0 Status: OK PackageFile: RNAAgeCalc_1.21.0.tar.gz PackageFileSize: 3.337 MiB