Package: RNAAgeCalc Version: 1.21.0 Command: rm -rf RNAAgeCalc.buildbin-libdir && mkdir RNAAgeCalc.buildbin-libdir && /Users/biocbuild/BBS/utils/build-universal.sh RNAAgeCalc_1.21.0.tar.gz /Library/Frameworks/R.framework/Resources/bin/R RNAAgeCalc.buildbin-libdir StartedAt: 2025-07-02 01:16:01 -0400 (Wed, 02 Jul 2025) EndedAt: 2025-07-02 01:17:12 -0400 (Wed, 02 Jul 2025) EllapsedTime: 71.2 seconds RetCode: 0 Status: OK PackageFile: RNAAgeCalc_1.21.0.tgz PackageFileSize: 3.472 MiB