Package: RNAAgeCalc Version: 1.21.0 Command: /Library/Frameworks/R.framework/Resources/bin/R CMD INSTALL RNAAgeCalc StartedAt: 2025-07-07 15:30:24 -0400 (Mon, 07 Jul 2025) EndedAt: 2025-07-07 15:30:45 -0400 (Mon, 07 Jul 2025) EllapsedTime: 21.5 seconds RetCode: 0 Status: OK