Package: RNAAgeCalc Version: 1.21.0 Command: /Library/Frameworks/R.framework/Resources/bin/R CMD check --install=check:RNAAgeCalc.install-out.txt --library=/Library/Frameworks/R.framework/Resources/library --no-vignettes --timings RNAAgeCalc_1.21.0.tar.gz StartedAt: 2025-07-07 21:02:37 -0400 (Mon, 07 Jul 2025) EndedAt: 2025-07-07 21:04:56 -0400 (Mon, 07 Jul 2025) EllapsedTime: 138.9 seconds RetCode: 0 Status: OK CheckDir: RNAAgeCalc.Rcheck Warnings: 0