Package: RNAAgeCalc Version: 1.21.0 Command: rm -rf RNAAgeCalc.buildbin-libdir && mkdir RNAAgeCalc.buildbin-libdir && /Users/biocbuild/BBS/utils/build-universal.sh RNAAgeCalc_1.21.0.tar.gz /Library/Frameworks/R.framework/Resources/bin/R RNAAgeCalc.buildbin-libdir StartedAt: 2025-07-07 22:29:54 -0400 (Mon, 07 Jul 2025) EndedAt: 2025-07-07 22:30:17 -0400 (Mon, 07 Jul 2025) EllapsedTime: 23.3 seconds RetCode: 0 Status: OK PackageFile: RNAAgeCalc_1.21.0.tgz PackageFileSize: 3.473 MiB