Package: RMassBank Version: 3.19.0 Command: /home/biocbuild/R/R/bin/R CMD check --install=check:RMassBank.install-out.txt --library=/home/biocbuild/R/R/site-library --no-vignettes --timings RMassBank_3.19.0.tar.gz StartedAt: 2025-10-07 11:27:12 -0000 (Tue, 07 Oct 2025) EndedAt: 2025-10-07 11:34:15 -0000 (Tue, 07 Oct 2025) EllapsedTime: 422.6 seconds RetCode: 0 Status: OK CheckDir: RMassBank.Rcheck Warnings: 0