Package: RLMM Version: 1.71.0 Command: /home/biocbuild/R/R/bin/R CMD INSTALL RLMM StartedAt: 2025-07-10 21:04:04 -0000 (Thu, 10 Jul 2025) EndedAt: 2025-07-10 21:04:28 -0000 (Thu, 10 Jul 2025) EllapsedTime: 23.1 seconds RetCode: 0 Status: OK