Package: RLMM Version: 1.71.0 Command: /home/biocbuild/R/R/bin/R CMD check --install=check:RLMM.install-out.txt --library=/home/biocbuild/R/R/site-library --no-vignettes --timings RLMM_1.71.0.tar.gz StartedAt: 2025-07-11 11:39:38 -0000 (Fri, 11 Jul 2025) EndedAt: 2025-07-11 11:39:54 -0000 (Fri, 11 Jul 2025) EllapsedTime: 16.0 seconds RetCode: 0 Status: OK CheckDir: RLMM.Rcheck Warnings: 0