Package: RJMCMCNucleosomes Version: 1.33.0 Command: /home/biocbuild/R/R/bin/R CMD check --install=check:RJMCMCNucleosomes.install-out.txt --library=/home/biocbuild/R/R/site-library --no-vignettes --timings RJMCMCNucleosomes_1.33.0.tar.gz StartedAt: 2025-07-01 11:00:09 -0000 (Tue, 01 Jul 2025) EndedAt: 2025-07-01 11:05:22 -0000 (Tue, 01 Jul 2025) EllapsedTime: 313.2 seconds RetCode: 0 Status: OK CheckDir: RJMCMCNucleosomes.Rcheck Warnings: 0