Package: RJMCMCNucleosomes Version: 1.33.1 Command: F:\biocbuild\bbs-3.22-bioc\R\bin\R.exe CMD INSTALL RJMCMCNucleosomes StartedAt: 2025-07-24 16:36:05 -0400 (Thu, 24 Jul 2025) EndedAt: 2025-07-24 16:39:13 -0400 (Thu, 24 Jul 2025) EllapsedTime: 187.8 seconds RetCode: 0 Status: OK