Package: RJMCMCNucleosomes Version: 1.33.0 Command: /home/biocbuild/bbs-3.22-bioc/R/bin/R CMD INSTALL RJMCMCNucleosomes StartedAt: 2025-07-01 15:26:22 -0400 (Tue, 01 Jul 2025) EndedAt: 2025-07-01 15:27:06 -0400 (Tue, 01 Jul 2025) EllapsedTime: 44.4 seconds RetCode: 0 Status: OK