Package: RJMCMCNucleosomes Version: 1.33.0 Command: /Library/Frameworks/R.framework/Resources/bin/R CMD build --keep-empty-dirs --no-resave-data RJMCMCNucleosomes StartedAt: 2025-07-16 17:22:24 -0400 (Wed, 16 Jul 2025) EndedAt: 2025-07-16 17:22:53 -0400 (Wed, 16 Jul 2025) EllapsedTime: 29.3 seconds RetCode: 0 Status: OK PackageFile: RJMCMCNucleosomes_1.33.0.tar.gz PackageFileSize: 721.9 KiB