Package: RImmPort Version: 1.37.0 Command: F:\biocbuild\bbs-3.22-bioc\R\bin\R.exe CMD INSTALL RImmPort StartedAt: 2025-07-22 15:39:26 -0400 (Tue, 22 Jul 2025) EndedAt: 2025-07-22 15:40:19 -0400 (Tue, 22 Jul 2025) EllapsedTime: 53.5 seconds RetCode: 0 Status: OK