Package: RImmPort Version: 1.37.0 Command: rm -rf RImmPort.buildbin-libdir && mkdir RImmPort.buildbin-libdir && F:\biocbuild\bbs-3.22-bioc\R\bin\R.exe CMD INSTALL --build --library=RImmPort.buildbin-libdir RImmPort_1.37.0.tar.gz StartedAt: 2025-07-23 09:59:03 -0400 (Wed, 23 Jul 2025) EndedAt: 2025-07-23 09:59:50 -0400 (Wed, 23 Jul 2025) EllapsedTime: 46.0 seconds RetCode: 0 Status: OK PackageFile: RImmPort_1.37.0.zip PackageFileSize: 2.522 MiB