Package: RIVER Version: 1.33.0 Command: /home/biocbuild/R/R/bin/R CMD build --keep-empty-dirs --no-resave-data RIVER StartedAt: 2025-07-01 02:17:29 -0000 (Tue, 01 Jul 2025) EndedAt: 2025-07-01 02:17:59 -0000 (Tue, 01 Jul 2025) EllapsedTime: 30.0 seconds RetCode: 0 Status: OK PackageFile: RIVER_1.33.0.tar.gz PackageFileSize: 1.327 MiB