Package: RGSEA Version: 1.43.0 Command: /home/biocbuild/R/R/bin/R CMD INSTALL RGSEA StartedAt: 2025-07-03 20:30:30 -0000 (Thu, 03 Jul 2025) EndedAt: 2025-07-03 20:30:39 -0000 (Thu, 03 Jul 2025) EllapsedTime: 9.2 seconds RetCode: 0 Status: OK