Package: RGSEA Version: 1.43.0 Command: /home/biocbuild/R/R/bin/R CMD check --install=check:RGSEA.install-out.txt --library=/home/biocbuild/R/R/site-library --no-vignettes --timings RGSEA_1.43.0.tar.gz StartedAt: 2025-07-04 10:37:33 -0000 (Fri, 04 Jul 2025) EndedAt: 2025-07-04 10:38:11 -0000 (Fri, 04 Jul 2025) EllapsedTime: 38.1 seconds RetCode: 0 Status: OK CheckDir: RGSEA.Rcheck Warnings: 0