Package: RGSEA Version: 1.43.0 Command: /home/biocbuild/R/R/bin/R CMD build --keep-empty-dirs --no-resave-data RGSEA StartedAt: 2025-07-04 02:18:40 -0000 (Fri, 04 Jul 2025) EndedAt: 2025-07-04 02:20:15 -0000 (Fri, 04 Jul 2025) EllapsedTime: 95.0 seconds RetCode: 0 Status: OK PackageFile: RGSEA_1.43.0.tar.gz PackageFileSize: 1.717 MiB