Package: RESOLVE Version: 1.11.0 Command: /home/biocbuild/bbs-3.22-bioc/R/bin/R CMD build --keep-empty-dirs --no-resave-data --md5 RESOLVE StartedAt: 2025-07-15 18:45:38 -0400 (Tue, 15 Jul 2025) EndedAt: 2025-07-15 18:46:36 -0400 (Tue, 15 Jul 2025) EllapsedTime: 58.1 seconds RetCode: 0 Status: OK PackageFile: RESOLVE_1.11.0.tar.gz PackageFileSize: 858.3 KiB