Package: RESOLVE Version: 1.11.0 Command: /Library/Frameworks/R.framework/Resources/bin/R CMD INSTALL RESOLVE StartedAt: 2025-07-20 15:22:18 -0400 (Sun, 20 Jul 2025) EndedAt: 2025-07-20 15:22:34 -0400 (Sun, 20 Jul 2025) EllapsedTime: 16.2 seconds RetCode: 0 Status: OK