Package: RESOLVE Version: 1.11.0 Command: /Library/Frameworks/R.framework/Resources/bin/R CMD check --install=check:RESOLVE.install-out.txt --library=/Library/Frameworks/R.framework/Resources/library --no-vignettes --timings RESOLVE_1.11.0.tar.gz StartedAt: 2025-07-20 21:05:54 -0400 (Sun, 20 Jul 2025) EndedAt: 2025-07-20 21:12:03 -0400 (Sun, 20 Jul 2025) EllapsedTime: 368.8 seconds RetCode: 0 Status: OK CheckDir: RESOLVE.Rcheck Warnings: 0