Package: RESOLVE Version: 1.11.0 Command: /Library/Frameworks/R.framework/Resources/bin/R CMD build --keep-empty-dirs --no-resave-data RESOLVE StartedAt: 2025-07-20 17:22:10 -0400 (Sun, 20 Jul 2025) EndedAt: 2025-07-20 17:22:35 -0400 (Sun, 20 Jul 2025) EllapsedTime: 25.3 seconds RetCode: 0 Status: OK PackageFile: RESOLVE_1.11.0.tar.gz PackageFileSize: 853.5 KiB