Package: RESOLVE Version: 1.11.0 Command: rm -rf RESOLVE.buildbin-libdir && mkdir RESOLVE.buildbin-libdir && /Users/biocbuild/BBS/utils/build-universal.sh RESOLVE_1.11.0.tar.gz /Library/Frameworks/R.framework/Resources/bin/R RESOLVE.buildbin-libdir StartedAt: 2025-07-20 22:38:31 -0400 (Sun, 20 Jul 2025) EndedAt: 2025-07-20 22:38:49 -0400 (Sun, 20 Jul 2025) EllapsedTime: 17.4 seconds RetCode: 0 Status: OK PackageFile: RESOLVE_1.11.0.tgz PackageFileSize: 1.001 MiB