Package: REMP Version: 1.33.0 Command: /home/biocbuild/R/R/bin/R CMD INSTALL REMP StartedAt: 2025-07-21 21:13:10 -0000 (Mon, 21 Jul 2025) EndedAt: 2025-07-21 21:14:24 -0000 (Mon, 21 Jul 2025) EllapsedTime: 74.3 seconds RetCode: 0 Status: OK