Package: REMP Version: 1.33.0 Command: /home/biocbuild/R/R/bin/R CMD build --keep-empty-dirs --no-resave-data REMP StartedAt: 2025-07-22 02:12:18 -0000 (Tue, 22 Jul 2025) EndedAt: 2025-07-22 02:15:13 -0000 (Tue, 22 Jul 2025) EllapsedTime: 175.1 seconds RetCode: 1 Status: ERROR PackageFile: None PackageFileSize: NA