Package: REMP Version: 1.33.0 Command: /home/biocbuild/bbs-3.22-bioc/R/bin/R CMD INSTALL REMP StartedAt: 2025-06-29 15:44:46 -0400 (Sun, 29 Jun 2025) EndedAt: 2025-06-29 15:45:43 -0400 (Sun, 29 Jun 2025) EllapsedTime: 56.1 seconds RetCode: 0 Status: OK