Package: REDseq Version: 1.55.0 Command: F:\biocbuild\bbs-3.22-bioc\R\bin\R.exe CMD INSTALL REDseq StartedAt: 2025-07-15 16:51:12 -0400 (Tue, 15 Jul 2025) EndedAt: 2025-07-15 16:52:09 -0400 (Tue, 15 Jul 2025) EllapsedTime: 57.1 seconds RetCode: 0 Status: OK