Package: RCyjs Version: 2.31.0 Command: /home/biocbuild/R/R/bin/R CMD check --install=check:RCyjs.install-out.txt --library=/home/biocbuild/R/R/site-library --no-vignettes --timings RCyjs_2.31.0.tar.gz StartedAt: 2025-07-22 10:48:37 -0000 (Tue, 22 Jul 2025) EndedAt: 2025-07-22 10:49:18 -0000 (Tue, 22 Jul 2025) EllapsedTime: 41.1 seconds RetCode: 0 Status: WARNINGS CheckDir: RCyjs.Rcheck Warnings: 1