Package: RCyjs Version: 2.31.0 Command: /home/biocbuild/R/R/bin/R CMD build --keep-empty-dirs --no-resave-data RCyjs StartedAt: 2025-07-18 02:20:25 -0000 (Fri, 18 Jul 2025) EndedAt: 2025-07-18 02:20:37 -0000 (Fri, 18 Jul 2025) EllapsedTime: 12.0 seconds RetCode: 0 Status: OK PackageFile: RCyjs_2.31.0.tar.gz PackageFileSize: 1.109 MiB