Package: RCyjs Version: 2.31.0 Command: chmod a+r RCyjs -R && F:\biocbuild\bbs-3.22-bioc\R\bin\R.exe CMD build --keep-empty-dirs --no-resave-data RCyjs StartedAt: 2025-07-11 21:29:51 -0400 (Fri, 11 Jul 2025) EndedAt: 2025-07-11 21:31:15 -0400 (Fri, 11 Jul 2025) EllapsedTime: 84.2 seconds RetCode: 0 Status: OK PackageFile: RCyjs_2.31.0.tar.gz PackageFileSize: 1.084 MiB