Package: RCyjs Version: 2.31.0 Command: rm -rf RCyjs.buildbin-libdir && mkdir RCyjs.buildbin-libdir && F:\biocbuild\bbs-3.22-bioc\R\bin\R.exe CMD INSTALL --build --library=RCyjs.buildbin-libdir RCyjs_2.31.0.tar.gz StartedAt: 2025-07-14 09:45:12 -0400 (Mon, 14 Jul 2025) EndedAt: 2025-07-14 09:46:57 -0400 (Mon, 14 Jul 2025) EllapsedTime: 105.3 seconds RetCode: 0 Status: OK PackageFile: RCyjs_2.31.0.zip PackageFileSize: 1.015 MiB