Package: RCy3 Version: 2.29.1 Command: /home/biocbuild/R/R/bin/R CMD check --install=check:RCy3.install-out.txt --library=/home/biocbuild/R/R/site-library --no-vignettes --timings RCy3_2.29.1.tar.gz StartedAt: 2025-10-10 12:23:37 -0000 (Fri, 10 Oct 2025) EndedAt: 2025-10-10 12:25:29 -0000 (Fri, 10 Oct 2025) EllapsedTime: 112.3 seconds RetCode: 0 Status: OK CheckDir: RCy3.Rcheck Warnings: 0