Package: RCy3 Version: 2.29.1 Command: /home/biocbuild/R/R/bin/R CMD build --keep-empty-dirs --no-resave-data RCy3 StartedAt: 2025-10-10 03:22:32 -0000 (Fri, 10 Oct 2025) EndedAt: 2025-10-10 03:23:32 -0000 (Fri, 10 Oct 2025) EllapsedTime: 60.1 seconds RetCode: 0 Status: OK PackageFile: RCy3_2.29.1.tar.gz PackageFileSize: 7.351 MiB