Package: RCy3 Version: 2.29.1 Command: /Library/Frameworks/R.framework/Resources/bin/R CMD build --keep-empty-dirs --no-resave-data RCy3 StartedAt: 2025-07-01 18:14:33 -0400 (Tue, 01 Jul 2025) EndedAt: 2025-07-01 18:15:40 -0400 (Tue, 01 Jul 2025) EllapsedTime: 66.3 seconds RetCode: 0 Status: OK PackageFile: RCy3_2.29.1.tar.gz PackageFileSize: 6.458 MiB