Package: RCy3 Version: 2.29.1 Command: rm -rf RCy3.buildbin-libdir && mkdir RCy3.buildbin-libdir && /Users/biocbuild/BBS/utils/build-universal.sh RCy3_2.29.1.tar.gz /Library/Frameworks/R.framework/Resources/bin/R RCy3.buildbin-libdir StartedAt: 2025-07-02 01:14:22 -0400 (Wed, 02 Jul 2025) EndedAt: 2025-07-02 01:14:46 -0400 (Wed, 02 Jul 2025) EllapsedTime: 24.3 seconds RetCode: 0 Status: OK PackageFile: RCy3_2.29.1.tgz PackageFileSize: 7.323 MiB