Package: RCX Version: 1.13.1 Command: /home/biocbuild/R/R/bin/R CMD INSTALL RCX StartedAt: 2025-10-02 20:21:41 -0000 (Thu, 02 Oct 2025) EndedAt: 2025-10-02 20:22:07 -0000 (Thu, 02 Oct 2025) EllapsedTime: 26.2 seconds RetCode: 0 Status: OK